BEGIN:VCALENDAR
VERSION:2.0
PRODID:-//Dachverband FairWertung e. V. - ECPv6.15.12.2//NONSGML v1.0//EN
CALSCALE:GREGORIAN
METHOD:PUBLISH
X-ORIGINAL-URL:https://fairwertung.de
X-WR-CALDESC:Veranstaltungen für Dachverband FairWertung e. V.
REFRESH-INTERVAL;VALUE=DURATION:PT1H
X-Robots-Tag:noindex
X-PUBLISHED-TTL:PT1H
BEGIN:VTIMEZONE
TZID:UTC
BEGIN:STANDARD
TZOFFSETFROM:+0000
TZOFFSETTO:+0000
TZNAME:UTC
DTSTART:20230101T000000
END:STANDARD
END:VTIMEZONE
BEGIN:VEVENT
DTSTART;TZID=UTC:20240313T193000
DTEND;TZID=UTC:20240313T193000
DTSTAMP:20260425T104533
CREATED:20230913T094234Z
LAST-MODIFIED:20230913T094234Z
UID:10000082-1710358200-1710358200@fairwertung.de
SUMMARY:"Aus den Augen\, aus dem Sinn?" - Vortrags- und Gesprächsabend im Himmel un Ääd-Begegnungscafé
DESCRIPTION:Ein Vortrags- und Gesprächsabend über die Weiterverwertung unserer Kleidung. \nEine Veranstaltung in Kooperation von Himmel un Ääd e.V. mit dem Kath. Bildungswerk RheinBerg
URL:https://fairwertung.de/event/aus-den-augen-aus-dem-sinn-vortrags-und-gespraechsabend-im-himmel-un-aeaed-begegnungscafe/
LOCATION:Himmel un Ääd-Begegnungscafé\, Altenberger-Dom-Str.125\, Bergisch Gladbach\, 51467
CATEGORIES:Kampagne
END:VEVENT
END:VCALENDAR